BEGIN:VCALENDAR
VERSION:2.0
PRODID:-//Oregon Music Education Association - ECPv6.15.20//NONSGML v1.0//EN
CALSCALE:GREGORIAN
METHOD:PUBLISH
X-WR-CALNAME:Oregon Music Education Association
X-ORIGINAL-URL:https://oregonmea.org
X-WR-CALDESC:Events for Oregon Music Education Association
REFRESH-INTERVAL;VALUE=DURATION:PT1H
X-Robots-Tag:noindex
X-PUBLISHED-TTL:PT1H
BEGIN:VTIMEZONE
TZID:America/Los_Angeles
BEGIN:DAYLIGHT
TZOFFSETFROM:-0800
TZOFFSETTO:-0700
TZNAME:PDT
DTSTART:20250309T100000
END:DAYLIGHT
BEGIN:STANDARD
TZOFFSETFROM:-0700
TZOFFSETTO:-0800
TZNAME:PST
DTSTART:20251102T090000
END:STANDARD
BEGIN:DAYLIGHT
TZOFFSETFROM:-0800
TZOFFSETTO:-0700
TZNAME:PDT
DTSTART:20260308T100000
END:DAYLIGHT
BEGIN:STANDARD
TZOFFSETFROM:-0700
TZOFFSETTO:-0800
TZNAME:PST
DTSTART:20261101T090000
END:STANDARD
BEGIN:DAYLIGHT
TZOFFSETFROM:-0800
TZOFFSETTO:-0700
TZNAME:PDT
DTSTART:20270314T100000
END:DAYLIGHT
BEGIN:STANDARD
TZOFFSETFROM:-0700
TZOFFSETTO:-0800
TZNAME:PST
DTSTART:20271107T090000
END:STANDARD
END:VTIMEZONE
BEGIN:VEVENT
DTSTART;VALUE=DATE:20260606
DTEND;VALUE=DATE:20260607
DTSTAMP:20260422T104151
CREATED:20260131T084324Z
LAST-MODIFIED:20260131T084324Z
UID:7902-1780704000-1780790399@oregonmea.org
SUMMARY:Grand Floral Starlight Parade
DESCRIPTION:
URL:https://oregonmea.org/event/grand-floral-starlight-parade/
LOCATION:Portland
ORGANIZER;CN="Rose Festival":MAILTO:info@rosefestival.org
END:VEVENT
BEGIN:VEVENT
DTSTART;TZID=America/Los_Angeles:20260607T080000
DTEND;TZID=America/Los_Angeles:20260607T170000
DTSTAMP:20260422T104152
CREATED:20260131T083928Z
LAST-MODIFIED:20260131T084119Z
UID:7899-1780819200-1780851600@oregonmea.org
SUMMARY:Grand Floral Parade
DESCRIPTION:
URL:https://oregonmea.org/event/grand-floral-parade/
LOCATION:Portland
ORGANIZER;CN="Rose Festival":MAILTO:info@rosefestival.org
END:VEVENT
BEGIN:VEVENT
DTSTART;TZID=America/Los_Angeles:20260614T193000
DTEND;TZID=America/Los_Angeles:20260614T213000
DTSTAMP:20260422T104152
CREATED:20251006T215014Z
LAST-MODIFIED:20251006T215014Z
UID:7062-1781465400-1781472600@oregonmea.org
SUMMARY:MYS: Joy Manifest- Beethoven’s Ninth
DESCRIPTION:
URL:https://oregonmea.org/event/mys-joy-manifest-beethovens-ninth/
LOCATION:Arlene Schnitzer Concert Hall\, 1037 SW Broadway\, Portland\, Oregon\, 97205
ORGANIZER;CN="Kyra Hanson":MAILTO:khanson@playmys.org
END:VEVENT
BEGIN:VEVENT
DTSTART;VALUE=DATE:20260617
DTEND;VALUE=DATE:20260620
DTSTAMP:20260422T104152
CREATED:20251006T225825Z
LAST-MODIFIED:20251006T225825Z
UID:7085-1781654400-1781913599@oregonmea.org
SUMMARY:Metro-Capitol Leadership Academy
DESCRIPTION:
URL:https://oregonmea.org/event/metro-capitol-leadership-academy/
LOCATION:West Salem High School\, 1776 Titan Dr NW\, Salem\, Oregon\, 97304
ORGANIZER;CN="Todd Zimbelman":MAILTO:zimbelman_todd@salkeiz.k12.or.us
END:VEVENT
BEGIN:VEVENT
DTSTART;VALUE=DATE:20260619
DTEND;VALUE=DATE:20260726
DTSTAMP:20260422T104152
CREATED:20251002T212321Z
LAST-MODIFIED:20251002T212321Z
UID:7038-1781827200-1785023999@oregonmea.org
SUMMARY:American Band College
DESCRIPTION:
URL:https://oregonmea.org/event/american-band-college/
LOCATION:Ashland\, Oregon
ORGANIZER;CN="Scott McKee":MAILTO:scottmckee@bandworld.org
END:VEVENT
BEGIN:VEVENT
DTSTART;VALUE=DATE:20260621
DTEND;VALUE=DATE:20260628
DTSTAMP:20260422T104152
CREATED:20251107T223926Z
LAST-MODIFIED:20251107T223926Z
UID:7353-1782000000-1782604799@oregonmea.org
SUMMARY:Music Camps at Wallowa Lake: Brass Camp
DESCRIPTION:
URL:https://oregonmea.org/event/music-camps-at-wallowa-lake-brass-camp/
LOCATION:Wallowa Lake Camp\, 84522 Church Lane\, Joseph\, Oregon\, 97846
ORGANIZER;CN="Amy Kao":MAILTO:brassmanager.musiccamps@gmail.com
END:VEVENT
BEGIN:VEVENT
DTSTART;VALUE=DATE:20260621
DTEND;VALUE=DATE:20260628
DTSTAMP:20260422T104152
CREATED:20260106T044338Z
LAST-MODIFIED:20260106T044338Z
UID:7568-1782000000-1782604799@oregonmea.org
SUMMARY:Northwest Band Camp
DESCRIPTION:
URL:https://oregonmea.org/event/northwest-band-camp/
LOCATION:Twin Rocks Friends Camp\, 18705 Highway 101 N\, Rockaway Beach\, Oregon\, 97136
ORGANIZER;CN="Larry Hine":MAILTO:info@nwbandcamps.com
END:VEVENT
BEGIN:VEVENT
DTSTART;VALUE=DATE:20260621
DTEND;VALUE=DATE:20260704
DTSTAMP:20260422T104152
CREATED:20251008T220819Z
LAST-MODIFIED:20251008T220819Z
UID:7171-1782000000-1783123199@oregonmea.org
SUMMARY:Young Musicians & Artists Session 1
DESCRIPTION:
URL:https://oregonmea.org/event/young-musicians-artists-session-1/
LOCATION:Willamette University\, 900 State Street\, Salem\, Oregon\, 97301
ORGANIZER;CN="Kate Andries":MAILTO:kate@ymaarts.org
END:VEVENT
BEGIN:VEVENT
DTSTART;VALUE=DATE:20260630
DTEND;VALUE=DATE:20260703
DTSTAMP:20260422T104152
CREATED:20251006T230055Z
LAST-MODIFIED:20251006T230055Z
UID:7089-1782777600-1783036799@oregonmea.org
SUMMARY:OAM: Camp
DESCRIPTION:
URL:https://oregonmea.org/event/oam-camp/
LOCATION:Oregon State University\, 875 SW 26th Street\, Corvallis\, OR\, 97331\, United States
ORGANIZER;CN="Todd Zimbelman":MAILTO:zimbelman_todd@salkeiz.k12.or.us
END:VEVENT
END:VCALENDAR