BEGIN:VCALENDAR
VERSION:2.0
PRODID:-//Oregon Music Education Association - ECPv6.15.20//NONSGML v1.0//EN
CALSCALE:GREGORIAN
METHOD:PUBLISH
X-ORIGINAL-URL:https://oregonmea.org
X-WR-CALDESC:Events for Oregon Music Education Association
REFRESH-INTERVAL;VALUE=DURATION:PT1H
X-Robots-Tag:noindex
X-PUBLISHED-TTL:PT1H
BEGIN:VTIMEZONE
TZID:America/Los_Angeles
BEGIN:DAYLIGHT
TZOFFSETFROM:-0800
TZOFFSETTO:-0700
TZNAME:PDT
DTSTART:20240310T100000
END:DAYLIGHT
BEGIN:STANDARD
TZOFFSETFROM:-0700
TZOFFSETTO:-0800
TZNAME:PST
DTSTART:20241103T090000
END:STANDARD
BEGIN:DAYLIGHT
TZOFFSETFROM:-0800
TZOFFSETTO:-0700
TZNAME:PDT
DTSTART:20250309T100000
END:DAYLIGHT
BEGIN:STANDARD
TZOFFSETFROM:-0700
TZOFFSETTO:-0800
TZNAME:PST
DTSTART:20251102T090000
END:STANDARD
BEGIN:DAYLIGHT
TZOFFSETFROM:-0800
TZOFFSETTO:-0700
TZNAME:PDT
DTSTART:20260308T100000
END:DAYLIGHT
BEGIN:STANDARD
TZOFFSETFROM:-0700
TZOFFSETTO:-0800
TZNAME:PST
DTSTART:20261101T090000
END:STANDARD
END:VTIMEZONE
BEGIN:VEVENT
DTSTART;VALUE=DATE:20250530
DTEND;VALUE=DATE:20250602
DTSTAMP:20260422T180730
CREATED:20250301T082743Z
LAST-MODIFIED:20250301T083059Z
UID:4954-1748563200-1748822399@oregonmea.org
SUMMARY:University of Oregon Conducting Workshop
DESCRIPTION:https://new.express.adobe.com/webpage/W2jJAv94hSdoK?
URL:https://oregonmea.org/event/university-of-oregon-conducting-workshop/
LOCATION:University of Oregon School of Music and Dance\, 1225 University of Oregon\, Eugene\, Oregon\, 97403
END:VEVENT
BEGIN:VEVENT
DTSTART;TZID=America/Los_Angeles:20250601T140000
DTEND;TZID=America/Los_Angeles:20250601T160000
DTSTAMP:20260422T180730
CREATED:20250502T202126Z
LAST-MODIFIED:20250523T194242Z
UID:5331-1748786400-1748793600@oregonmea.org
SUMMARY:Oregon Symphony: Peter and the Wolf at the Schnitz
DESCRIPTION:
URL:https://oregonmea.org/event/peter-and-the-wolf-at-the-schnitz/
LOCATION:Arlene Schnitzer Concert Hall\, 1037 SW Broadway\, Portland\, Oregon\, 97205
ORGANIZER;CN="Annissa Bolder":MAILTO:abolder@orsymphony.org
END:VEVENT
BEGIN:VEVENT
DTSTART;TZID=America/Los_Angeles:20250601T163000
DTEND;TZID=America/Los_Angeles:20250601T180000
DTSTAMP:20260422T180730
CREATED:20250512T212913Z
LAST-MODIFIED:20250512T212913Z
UID:5411-1748795400-1748800800@oregonmea.org
SUMMARY:Oregon Children's Choir: Finale Concert
DESCRIPTION:
URL:https://oregonmea.org/event/oregon-childrens-choir-finale-concert/
LOCATION:First United Methodist Church\, 1376 Olive Street\, Eugene\, Oregon\, 97401
ORGANIZER;CN="Brian Aljian":MAILTO:executivedirector@oregonchildrenschoir.org
END:VEVENT
BEGIN:VEVENT
DTSTART;TZID=America/Los_Angeles:20250603T160000
DTEND;TZID=America/Los_Angeles:20250603T170000
DTSTAMP:20260422T180730
CREATED:20250522T030015Z
LAST-MODIFIED:20250522T030015Z
UID:5526-1748966400-1748970000@oregonmea.org
SUMMARY:NAfME Webinar: Hip Hop\, Neurodivergence\, and the Music Classroom: A New Groove
DESCRIPTION:Hip hop can serve as a transformative tool for engaging neurodivergent learners and fostering creativity\, expression\, and social connection. With its rich cultural roots and dynamic\, expressive nature\, hip hop has proven to be an inclusive medium that resonates with diverse learners\, including those with autism\, ADHD\, and other neurodivergent traits. In this webinar\, you will: \n\nUnderstand how hip hop can be a bridge for neurodivergent learners in music education.\nExplore the role of rhythm\, lyricism\, and beat-making in supporting cognitive development and emotional expression.\nLearn strategies for integrating hip hop into the classroom to accommodate diverse learning needs.\nGain practical tools for creating inclusive music education programs that embrace neurodivergence.\n\nThis webinar is ideal for music educators\, special education professionals\, art therapists\, and those working with neurodivergent individuals. Join us in exploring the power of music and culture to create meaningful educational experiences for all students.
URL:https://oregonmea.org/event/nafme-webinar-hip-hop-neurodivergence-and-the-music-classroom-a-new-groove/
LOCATION:Zoom
END:VEVENT
BEGIN:VEVENT
DTSTART;TZID=America/Los_Angeles:20250605T193000
DTEND;TZID=America/Los_Angeles:20250605T210000
DTSTAMP:20260422T180730
CREATED:20250508T012602Z
LAST-MODIFIED:20250508T012853Z
UID:5389-1749151800-1749157200@oregonmea.org
SUMMARY:Oregon Wind Symphony presents "Slideshow!"
DESCRIPTION:Humoresque (Kimberly Archer)\nHymn to a Blue Hour (John Mackey)\nConcertino for Trombone (Lars-Erik Larsson/Walker)\nDope (Kathy Copley)\nMiss Trombonism (N. C. Davis)\n 
URL:https://oregonmea.org/event/oregon-wind-symphony-presents-slideshow/
LOCATION:Beall Concert Hall\, 1225 University of Oregon\, Eugene\, Oregon\, 97401
END:VEVENT
BEGIN:VEVENT
DTSTART;TZID=America/Los_Angeles:20250606T190000
DTEND;TZID=America/Los_Angeles:20250606T210000
DTSTAMP:20260422T180730
CREATED:20250210T215751Z
LAST-MODIFIED:20250210T215751Z
UID:4830-1749236400-1749243600@oregonmea.org
SUMMARY:Linn Benton Community College Choir Concert- Our American Journey
DESCRIPTION:
URL:https://oregonmea.org/event/linn-benton-community-college-choir-concert-our-american-journey/
LOCATION:Russell Tripp Performance Center\, 6500 Pacific Boulevard SW\, Albany\, Oregon\, 97321
ORGANIZER;CN="Raymund Ocampo":MAILTO:ocampor@linnbenton.edu
END:VEVENT
BEGIN:VEVENT
DTSTART;TZID=America/Los_Angeles:20250607T100000
DTEND;TZID=America/Los_Angeles:20250607T120000
DTSTAMP:20260422T180730
CREATED:20250601T084736Z
LAST-MODIFIED:20250601T084736Z
UID:5599-1749290400-1749297600@oregonmea.org
SUMMARY:Portland Grand Floral Parade
DESCRIPTION:
URL:https://oregonmea.org/event/portland-grand-floral-parade/
LOCATION:Portland
END:VEVENT
BEGIN:VEVENT
DTSTART;VALUE=DATE:20250608
DTEND;VALUE=DATE:20250612
DTSTAMP:20260422T180730
CREATED:20250125T054716Z
LAST-MODIFIED:20250125T054716Z
UID:4709-1749340800-1749686399@oregonmea.org
SUMMARY:NAfME National Assembly
DESCRIPTION:
URL:https://oregonmea.org/event/nafme-national-assembly/
LOCATION:Washington\, D.C.
END:VEVENT
BEGIN:VEVENT
DTSTART;TZID=America/Los_Angeles:20250617T193000
DTEND;TZID=America/Los_Angeles:20250617T213000
DTSTAMP:20260422T180730
CREATED:20250530T073102Z
LAST-MODIFIED:20250616T031218Z
UID:5581-1750188600-1750195800@oregonmea.org
SUMMARY:MYS 50th Anniversary Finale: Esperanza Spalding
DESCRIPTION:
URL:https://oregonmea.org/event/mys-50th-anniversary-finale-esperanza-spalding/
LOCATION:Arlene Schnitzer Concert Hall\, 1037 SW Broadway\, Portland\, Oregon\, 97205
ORGANIZER;CN="Kyra Hanson":MAILTO:khanson@playmys.org
END:VEVENT
BEGIN:VEVENT
DTSTART;TZID=America/Los_Angeles:20250618T180000
DTEND;TZID=America/Los_Angeles:20250618T193000
DTSTAMP:20260422T180730
CREATED:20250614T071223Z
LAST-MODIFIED:20250614T071223Z
UID:5668-1750269600-1750275000@oregonmea.org
SUMMARY:NWAPA Fall Championships Committee Meeting
DESCRIPTION:https://us02web.zoom.us/j/83342612200
URL:https://oregonmea.org/event/nwapa-fall-championships-committee-meeting/
LOCATION:Zoom
ORGANIZER;CN="Jeff Mitchell":MAILTO:contest_coord@nwapa.net
END:VEVENT
BEGIN:VEVENT
DTSTART;VALUE=DATE:20250619
DTEND;VALUE=DATE:20250706
DTSTAMP:20260422T180730
CREATED:20250215T002129Z
LAST-MODIFIED:20250215T002605Z
UID:4867-1750291200-1751759999@oregonmea.org
SUMMARY:American Band College - Master's of Music
DESCRIPTION:ABC
URL:https://oregonmea.org/event/american-band-college-masters-of-music/
LOCATION:Ashland\, Oregon
ORGANIZER;CN="Scott McKee":MAILTO:scottmckee@bandworld.org
END:VEVENT
BEGIN:VEVENT
DTSTART;VALUE=DATE:20250622
DTEND;VALUE=DATE:20250629
DTSTAMP:20260422T180730
CREATED:20250422T202843Z
LAST-MODIFIED:20250422T202843Z
UID:5165-1750550400-1751155199@oregonmea.org
SUMMARY:Portland State University Summer Brass Academy
DESCRIPTION:
URL:https://oregonmea.org/event/portland-state-university-summer-brass-academy/
LOCATION:Portland State University\, 1620 SW Park Ave\, Portland\, OR 97201\, Portland\, OR\, 97201\, United States
ORGANIZER;CN="PSU Brass Academy":MAILTO:brassacademy@pdx.edu
END:VEVENT
BEGIN:VEVENT
DTSTART;VALUE=DATE:20250622
DTEND;VALUE=DATE:20250629
DTSTAMP:20260422T180730
CREATED:20250422T203218Z
LAST-MODIFIED:20250422T203218Z
UID:5168-1750550400-1751155199@oregonmea.org
SUMMARY:Portland State University Summer Percussion Camp
DESCRIPTION:
URL:https://oregonmea.org/event/portland-state-university-summer-percussion-camp/
LOCATION:Portland State University\, 1620 SW Park Ave\, Portland\, OR 97201\, Portland\, OR\, 97201\, United States
ORGANIZER;CN="Chris Whyte":MAILTO:christopher.s.whyte@pdx.edu
END:VEVENT
BEGIN:VEVENT
DTSTART;VALUE=DATE:20250623
DTEND;VALUE=DATE:20250626
DTSTAMP:20260422T180730
CREATED:20250423T202935Z
LAST-MODIFIED:20250423T202935Z
UID:5196-1750636800-1750895999@oregonmea.org
SUMMARY:Metropolitan-Capitol Leadership Academy
DESCRIPTION:
URL:https://oregonmea.org/event/metropolitan-capitol-leadership-academy/
LOCATION:West Salem High School\, 1776 Titan Dr NW\, Salem\, Oregon\, 97304
ORGANIZER;CN="Novami":MAILTO:director@novami.org
END:VEVENT
BEGIN:VEVENT
DTSTART;VALUE=DATE:20250623
DTEND;VALUE=DATE:20250628
DTSTAMP:20260422T180730
CREATED:20250425T044130Z
LAST-MODIFIED:20250425T044248Z
UID:5231-1750636800-1751068799@oregonmea.org
SUMMARY:Mt. Hood Community College Jazz Camp
DESCRIPTION:
URL:https://oregonmea.org/event/mt-hood-community-college-jazz-camp/
LOCATION:Mt. Hood Community College\, 26000 SE Stark St\, Gresham\, OR 97030\, Gresham\, OR\, 97030\, United States
ORGANIZER;CN="Dan Davey":MAILTO:daniel.davey@mhcc.edu
END:VEVENT
BEGIN:VEVENT
DTSTART;VALUE=DATE:20250628
DTEND;VALUE=DATE:20250709
DTSTAMP:20260422T180730
CREATED:20250603T182917Z
LAST-MODIFIED:20250603T182927Z
UID:5609-1751068800-1752019199@oregonmea.org
SUMMARY:University of Oregon Choral Academy
DESCRIPTION:
URL:https://oregonmea.org/event/university-of-oregon-choral-academy/
LOCATION:University of Oregon School of Music and Dance\, 1225 University of Oregon\, Eugene\, Oregon\, 97403
ORGANIZER;CN="Barbara Harris":MAILTO:bharris7@uoregon.edu
END:VEVENT
END:VCALENDAR