BEGIN:VCALENDAR
VERSION:2.0
PRODID:-//Oregon Music Education Association - ECPv6.15.20//NONSGML v1.0//EN
CALSCALE:GREGORIAN
METHOD:PUBLISH
X-ORIGINAL-URL:https://oregonmea.org
X-WR-CALDESC:Events for Oregon Music Education Association
REFRESH-INTERVAL;VALUE=DURATION:PT1H
X-Robots-Tag:noindex
X-PUBLISHED-TTL:PT1H
BEGIN:VTIMEZONE
TZID:America/Los_Angeles
BEGIN:DAYLIGHT
TZOFFSETFROM:-0800
TZOFFSETTO:-0700
TZNAME:PDT
DTSTART:20170312T100000
END:DAYLIGHT
BEGIN:STANDARD
TZOFFSETFROM:-0700
TZOFFSETTO:-0800
TZNAME:PST
DTSTART:20171105T090000
END:STANDARD
BEGIN:DAYLIGHT
TZOFFSETFROM:-0800
TZOFFSETTO:-0700
TZNAME:PDT
DTSTART:20180311T100000
END:DAYLIGHT
BEGIN:STANDARD
TZOFFSETFROM:-0700
TZOFFSETTO:-0800
TZNAME:PST
DTSTART:20181104T090000
END:STANDARD
BEGIN:DAYLIGHT
TZOFFSETFROM:-0800
TZOFFSETTO:-0700
TZNAME:PDT
DTSTART:20190310T100000
END:DAYLIGHT
BEGIN:STANDARD
TZOFFSETFROM:-0700
TZOFFSETTO:-0800
TZNAME:PST
DTSTART:20191103T090000
END:STANDARD
END:VTIMEZONE
BEGIN:VEVENT
DTSTART;TZID=America/Los_Angeles:20180511T083000
DTEND;TZID=America/Los_Angeles:20180512T083000
DTSTAMP:20260425T164251
CREATED:20240117T185343Z
LAST-MODIFIED:20240117T185343Z
UID:2598-1526027400-1526113800@oregonmea.org
SUMMARY:MS Honor Choir
DESCRIPTION:Breanna Ryan breanna_ryan@centennial.k12.or.usKarie Saltmarsh karie_saltmarsh@ddouglas.k12.or.usrmcgloth@gmail.com
URL:https://oregonmea.org/event/ms-honor-choir/
CATEGORIES:District 2
END:VEVENT
BEGIN:VEVENT
DTSTART;TZID=America/Los_Angeles:20180512T083000
DTEND;TZID=America/Los_Angeles:20180512T083000
DTSTAMP:20260425T164251
CREATED:20240117T185342Z
LAST-MODIFIED:20240117T185342Z
UID:2597-1526113800-1526113800@oregonmea.org
SUMMARY:Elementary Honor Choir
DESCRIPTION:val Ellet val_ellett@ddsd40.orgrmcgloth@gmail.com
URL:https://oregonmea.org/event/elementary-honor-choir/
CATEGORIES:District 2
END:VEVENT
END:VCALENDAR