BEGIN:VCALENDAR
VERSION:2.0
PRODID:-//Oregon Music Education Association - ECPv6.15.20//NONSGML v1.0//EN
CALSCALE:GREGORIAN
METHOD:PUBLISH
X-WR-CALNAME:Oregon Music Education Association
X-ORIGINAL-URL:https://oregonmea.org
X-WR-CALDESC:Events for Oregon Music Education Association
REFRESH-INTERVAL;VALUE=DURATION:PT1H
X-Robots-Tag:noindex
X-PUBLISHED-TTL:PT1H
BEGIN:VTIMEZONE
TZID:America/Los_Angeles
BEGIN:DAYLIGHT
TZOFFSETFROM:-0800
TZOFFSETTO:-0700
TZNAME:PDT
DTSTART:20170312T100000
END:DAYLIGHT
BEGIN:STANDARD
TZOFFSETFROM:-0700
TZOFFSETTO:-0800
TZNAME:PST
DTSTART:20171105T090000
END:STANDARD
BEGIN:DAYLIGHT
TZOFFSETFROM:-0800
TZOFFSETTO:-0700
TZNAME:PDT
DTSTART:20180311T100000
END:DAYLIGHT
BEGIN:STANDARD
TZOFFSETFROM:-0700
TZOFFSETTO:-0800
TZNAME:PST
DTSTART:20181104T090000
END:STANDARD
BEGIN:DAYLIGHT
TZOFFSETFROM:-0800
TZOFFSETTO:-0700
TZNAME:PDT
DTSTART:20190310T100000
END:DAYLIGHT
BEGIN:STANDARD
TZOFFSETFROM:-0700
TZOFFSETTO:-0800
TZNAME:PST
DTSTART:20191103T090000
END:STANDARD
END:VTIMEZONE
BEGIN:VEVENT
DTSTART;TZID=America/Los_Angeles:20180308T083000
DTEND;TZID=America/Los_Angeles:20180308T083000
DTSTAMP:20260425T191158
CREATED:20240117T185416Z
LAST-MODIFIED:20240117T185416Z
UID:2633-1520497800-1520497800@oregonmea.org
SUMMARY:Middle School Choir Festival
DESCRIPTION:Middle School Choir FestivalAWaggoner@rsd7.netrmcgloth@gmail.com
URL:https://oregonmea.org/event/middle-school-choir-festival-2/
CATEGORIES:District 2
END:VEVENT
BEGIN:VEVENT
DTSTART;TZID=America/Los_Angeles:20180313T083000
DTEND;TZID=America/Los_Angeles:20180313T083000
DTSTAMP:20260425T191158
CREATED:20240117T185411Z
LAST-MODIFIED:20240117T185411Z
UID:2627-1520929800-1520929800@oregonmea.org
SUMMARY:Middle School Band Festival
DESCRIPTION:Middle School Band Festivaljenna gagnegagne6@gresham.k12.or.usrmcgloth@gmail.com
URL:https://oregonmea.org/event/middle-school-band-festival-2/
CATEGORIES:District 2
END:VEVENT
BEGIN:VEVENT
DTSTART;TZID=America/Los_Angeles:20180320T083000
DTEND;TZID=America/Los_Angeles:20180320T083000
DTSTAMP:20260425T191158
CREATED:20240117T185403Z
LAST-MODIFIED:20240117T185403Z
UID:2620-1521534600-1521534600@oregonmea.org
SUMMARY:HS Choir Festival
DESCRIPTION:High School Choir FestivalKaren BohartKBohart@rsd7.netrmcgloth@gmail.com
URL:https://oregonmea.org/event/hs-choir-festival/
CATEGORIES:District 2
END:VEVENT
BEGIN:VEVENT
DTSTART;TZID=America/Los_Angeles:20180320T083000
DTEND;TZID=America/Los_Angeles:20180320T083000
DTSTAMP:20260425T191158
CREATED:20240117T185403Z
LAST-MODIFIED:20240117T185403Z
UID:2621-1521534600-1521534600@oregonmea.org
SUMMARY:M.S. Honor Choir
DESCRIPTION:Koren RussKRuss@rsd7.netKRuss@rsd7.net
URL:https://oregonmea.org/event/m-s-honor-choir/
CATEGORIES:District 2
END:VEVENT
END:VCALENDAR