BEGIN:VCALENDAR
VERSION:2.0
PRODID:-//Oregon Music Education Association - ECPv6.15.20//NONSGML v1.0//EN
CALSCALE:GREGORIAN
METHOD:PUBLISH
X-ORIGINAL-URL:https://oregonmea.org
X-WR-CALDESC:Events for Oregon Music Education Association
REFRESH-INTERVAL;VALUE=DURATION:PT1H
X-Robots-Tag:noindex
X-PUBLISHED-TTL:PT1H
BEGIN:VTIMEZONE
TZID:America/Los_Angeles
BEGIN:DAYLIGHT
TZOFFSETFROM:-0800
TZOFFSETTO:-0700
TZNAME:PDT
DTSTART:20170312T100000
END:DAYLIGHT
BEGIN:STANDARD
TZOFFSETFROM:-0700
TZOFFSETTO:-0800
TZNAME:PST
DTSTART:20171105T090000
END:STANDARD
BEGIN:DAYLIGHT
TZOFFSETFROM:-0800
TZOFFSETTO:-0700
TZNAME:PDT
DTSTART:20180311T100000
END:DAYLIGHT
BEGIN:STANDARD
TZOFFSETFROM:-0700
TZOFFSETTO:-0800
TZNAME:PST
DTSTART:20181104T090000
END:STANDARD
BEGIN:DAYLIGHT
TZOFFSETFROM:-0800
TZOFFSETTO:-0700
TZNAME:PDT
DTSTART:20190310T100000
END:DAYLIGHT
BEGIN:STANDARD
TZOFFSETFROM:-0700
TZOFFSETTO:-0800
TZNAME:PST
DTSTART:20191103T090000
END:STANDARD
END:VTIMEZONE
BEGIN:VEVENT
DTSTART;TZID=America/Los_Angeles:20180224T083000
DTEND;TZID=America/Los_Angeles:20180224T083000
DTSTAMP:20260425T203018
CREATED:20240117T185427Z
LAST-MODIFIED:20240117T185427Z
UID:2644-1519461000-1519461000@oregonmea.org
SUMMARY:MS Solo contest
DESCRIPTION:Solo contest held concurrently with the HS contestDeanna McGlothinDeanna.Mcglothin@ortrail.k12.or.usrmcgloth@gmail.com
URL:https://oregonmea.org/event/ms-solo-contest/
CATEGORIES:District 2
END:VEVENT
BEGIN:VEVENT
DTSTART;TZID=America/Los_Angeles:20180224T083000
DTEND;TZID=America/Los_Angeles:20180224T083000
DTSTAMP:20260425T203018
CREATED:20240117T185427Z
LAST-MODIFIED:20240117T185427Z
UID:2645-1519461000-1519461000@oregonmea.org
SUMMARY:Solo and Ensemble Contest D2
DESCRIPTION:Solo and ensemble contestrmcgloth@gmail.comrmcgloth@gmail.com
URL:https://oregonmea.org/event/solo-and-ensemble-contest-d2/
CATEGORIES:District 2
END:VEVENT
END:VCALENDAR