BEGIN:VCALENDAR
VERSION:2.0
PRODID:-//Oregon Music Education Association - ECPv6.15.20//NONSGML v1.0//EN
CALSCALE:GREGORIAN
METHOD:PUBLISH
X-WR-CALNAME:Oregon Music Education Association
X-ORIGINAL-URL:https://oregonmea.org
X-WR-CALDESC:Events for Oregon Music Education Association
REFRESH-INTERVAL;VALUE=DURATION:PT1H
X-Robots-Tag:noindex
X-PUBLISHED-TTL:PT1H
BEGIN:VTIMEZONE
TZID:America/Los_Angeles
BEGIN:DAYLIGHT
TZOFFSETFROM:-0800
TZOFFSETTO:-0700
TZNAME:PDT
DTSTART:20130310T100000
END:DAYLIGHT
BEGIN:STANDARD
TZOFFSETFROM:-0700
TZOFFSETTO:-0800
TZNAME:PST
DTSTART:20131103T090000
END:STANDARD
BEGIN:DAYLIGHT
TZOFFSETFROM:-0800
TZOFFSETTO:-0700
TZNAME:PDT
DTSTART:20140309T100000
END:DAYLIGHT
BEGIN:STANDARD
TZOFFSETFROM:-0700
TZOFFSETTO:-0800
TZNAME:PST
DTSTART:20141102T090000
END:STANDARD
BEGIN:DAYLIGHT
TZOFFSETFROM:-0800
TZOFFSETTO:-0700
TZNAME:PDT
DTSTART:20150308T100000
END:DAYLIGHT
BEGIN:STANDARD
TZOFFSETFROM:-0700
TZOFFSETTO:-0800
TZNAME:PST
DTSTART:20151101T090000
END:STANDARD
BEGIN:DAYLIGHT
TZOFFSETFROM:-0800
TZOFFSETTO:-0700
TZNAME:PDT
DTSTART:20160313T100000
END:DAYLIGHT
BEGIN:STANDARD
TZOFFSETFROM:-0700
TZOFFSETTO:-0800
TZNAME:PST
DTSTART:20161106T090000
END:STANDARD
BEGIN:DAYLIGHT
TZOFFSETFROM:-0800
TZOFFSETTO:-0700
TZNAME:PDT
DTSTART:20170312T100000
END:DAYLIGHT
BEGIN:STANDARD
TZOFFSETFROM:-0700
TZOFFSETTO:-0800
TZNAME:PST
DTSTART:20171105T090000
END:STANDARD
BEGIN:DAYLIGHT
TZOFFSETFROM:-0800
TZOFFSETTO:-0700
TZNAME:PDT
DTSTART:20180311T100000
END:DAYLIGHT
BEGIN:STANDARD
TZOFFSETFROM:-0700
TZOFFSETTO:-0800
TZNAME:PST
DTSTART:20181104T090000
END:STANDARD
BEGIN:DAYLIGHT
TZOFFSETFROM:-0800
TZOFFSETTO:-0700
TZNAME:PDT
DTSTART:20190310T100000
END:DAYLIGHT
BEGIN:STANDARD
TZOFFSETFROM:-0700
TZOFFSETTO:-0800
TZNAME:PST
DTSTART:20191103T090000
END:STANDARD
END:VTIMEZONE
BEGIN:VEVENT
DTSTART;TZID=America/Los_Angeles:20180111T080000
DTEND;TZID=America/Los_Angeles:20180114T080000
DTSTAMP:20260422T033426
CREATED:20240117T185437Z
LAST-MODIFIED:20240117T185437Z
UID:2661-1515657600-1515916800@oregonmea.org
SUMMARY:All-State Conference
DESCRIPTION:Kathy Briggs\, conference chairkathy.briggs@smapdx.org
URL:https://oregonmea.org/event/all-state-conference/
CATEGORIES:ALL Districts
END:VEVENT
BEGIN:VEVENT
DTSTART;TZID=America/Los_Angeles:20171028T090000
DTEND;TZID=America/Los_Angeles:20171028T090000
DTSTAMP:20260422T033426
CREATED:20240117T185444Z
LAST-MODIFIED:20240117T185444Z
UID:2664-1509181200-1509181200@oregonmea.org
SUMMARY:ACDA Fall Choral Workshop
DESCRIPTION:Sing On!\n2017 Oregon ACDA Fall Choral Workshop\n9a-4:30p Saturday\, October 28\, 2017 Pacific University\, Forest Grove\, OR \nStart the year with a Super Saturday of choral experiences for you and your choir students. The day will include 4 different sessions geared toward singers in grades 6-12. For complete info and registration forms go to: www.oracda.org Register this week! \nMiddle School Leadership Honor Choir (grades 6-8) — Margaret Green\, Conductor This session is full! Look for updates on the M.S. Choir Festival in April 2018 \nHS Beginning Sight Reading Skills — Erika Lockwood and Karen Bohart\, Clinicians\nDo you have singers with limited experience in solfege and music reading that are ready to increase their sight reading skills? This workshop will include group experiences to learn process\, reading strategies\, and how to incorporate basic skills into the choral repertoire. \nHigh School Advanced Sight Reading Chorus â€“ Steve Zielke\, Clinician\nThis session is designed for experienced sight-readers in high school and college who want to improve sight reading skills through singing choral octavos. Help pave the way for your choir leaders to move your choral ensembles to the next level of literacy. The day will include 25+ choral pieces in various styles\, rhythmic exercises and practice sheets based on OSAA Sight Reading examples. \nAdult Director Session — Dr. Rodney Eichenberger\, Retired Florida State University\nRodney will bring his vast knowledge and experience in choral conducting to the adult directors and\ncollege student attendees.  \nIn addition to the participatory sessions\, we will have an excellent packet of\noctavos to read together. You will not want to miss this opportunity to learn from one of the countryâ€™s\nfinest conducting gurus. This will be a great day of Professional Development! \nCost is $30 for students (includes t-shirt\, brunch\, music\, materials). $50 for directors/adults Go to the OR ACDA website for registration and more details today! www.oracda.org \nWith a song\,\nPam Nordquist\nOR ACDA Past PresidentPam Nordquist pamarella@charter.net
URL:https://oregonmea.org/event/acda-fall-choral-workshop/
CATEGORIES:ALL Districts
END:VEVENT
BEGIN:VEVENT
DTSTART;TZID=America/Los_Angeles:20170916T090000
DTEND;TZID=America/Los_Angeles:20170916T090000
DTSTAMP:20260422T033426
CREATED:20240117T185449Z
LAST-MODIFIED:20240117T185449Z
UID:2670-1505552400-1505552400@oregonmea.org
SUMMARY:State Board Meeting
DESCRIPTION:
URL:https://oregonmea.org/event/state-board-meeting/
CATEGORIES:ALL Districts
END:VEVENT
BEGIN:VEVENT
DTSTART;TZID=America/Los_Angeles:20170520T083000
DTEND;TZID=America/Los_Angeles:20170520T083000
DTSTAMP:20260422T033426
CREATED:20240117T185450Z
LAST-MODIFIED:20240117T185450Z
UID:2673-1495269000-1495269000@oregonmea.org
SUMMARY:Spring board meeting
DESCRIPTION:Spring board meeting\, Lake Oswego
URL:https://oregonmea.org/event/spring-board-meeting/
CATEGORIES:ALL Districts
END:VEVENT
BEGIN:VEVENT
DTSTART;VALUE=DATE:20170510
DTEND;VALUE=DATE:20170514
DTSTAMP:20260422T033426
CREATED:20240117T185452Z
LAST-MODIFIED:20240117T185452Z
UID:2674-1494374400-1494719999@oregonmea.org
SUMMARY:State Band/Orchestra Championships begin
DESCRIPTION:May 10 – 3A & 4AMay 11 – String & Full Orchestra\nMay 12 -2A & 5A\nMay 13 – 6A
URL:https://oregonmea.org/event/state-band-orchestra-championships-begin/
CATEGORIES:ALL Districts
END:VEVENT
BEGIN:VEVENT
DTSTART;VALUE=DATE:20170504
DTEND;VALUE=DATE:20170507
DTSTAMP:20260422T033426
CREATED:20240117T185452Z
LAST-MODIFIED:20240117T185452Z
UID:2676-1493856000-1494115199@oregonmea.org
SUMMARY:OSSA Choir Championships
DESCRIPTION:May 4 – 1A\, 2A\, 3AMay 5 – 4A & 5A\nMay 6 – 6A
URL:https://oregonmea.org/event/ossa-choir-championships/
CATEGORIES:ALL Districts
END:VEVENT
BEGIN:VEVENT
DTSTART;VALUE=DATE:20170429
DTEND;VALUE=DATE:20170430
DTSTAMP:20260422T033426
CREATED:20240117T185452Z
LAST-MODIFIED:20240117T185452Z
UID:2677-1493424000-1493510399@oregonmea.org
SUMMARY:OSAA State Solo Contest
DESCRIPTION:State Solo Cotest day!
URL:https://oregonmea.org/event/osaa-state-solo-contest/
CATEGORIES:ALL Districts
END:VEVENT
BEGIN:VEVENT
DTSTART;VALUE=DATE:20170428
DTEND;VALUE=DATE:20170429
DTSTAMP:20260422T033426
CREATED:20240117T185452Z
LAST-MODIFIED:20240117T185452Z
UID:2678-1493337600-1493423999@oregonmea.org
SUMMARY:State Small Ensemble Contest
DESCRIPTION:Small Ensemble Contest Day
URL:https://oregonmea.org/event/state-small-ensemble-contest/
CATEGORIES:ALL Districts
END:VEVENT
BEGIN:VEVENT
DTSTART;VALUE=DATE:20170320
DTEND;VALUE=DATE:20170321
DTSTAMP:20260422T033426
CREATED:20240117T185511Z
LAST-MODIFIED:20240117T185511Z
UID:2701-1489968000-1490054399@oregonmea.org
SUMMARY:State Small Ensemble Registrations Due
DESCRIPTION:State Small Ensemble Registrations Deadline
URL:https://oregonmea.org/event/state-small-ensemble-registrations-due/
CATEGORIES:ALL Districts
END:VEVENT
BEGIN:VEVENT
DTSTART;TZID=America/Los_Angeles:20170310T073000
DTEND;TZID=America/Los_Angeles:20170310T073000
DTSTAMP:20260422T033426
CREATED:20240117T185523Z
LAST-MODIFIED:20240117T185523Z
UID:2709-1489131000-1489131000@oregonmea.org
SUMMARY:Warner Pacific High School Concert Band Festival
DESCRIPTION:This is an OSAA state-qualifying event for high school concert bands featuring respected adjudicators from all over Oregon and SW Washington. James Cameron\, Wind Ensemble Directorjdcameron@warnerpacific.edu
URL:https://oregonmea.org/event/warner-pacific-high-school-concert-band-festival/
CATEGORIES:ALL Districts
END:VEVENT
BEGIN:VEVENT
DTSTART;VALUE=DATE:20170216
DTEND;VALUE=DATE:20170220
DTSTAMP:20260422T033426
CREATED:20240117T185529Z
LAST-MODIFIED:20240117T185529Z
UID:2722-1487203200-1487548799@oregonmea.org
SUMMARY:All-Northwest Confeence begins
DESCRIPTION:For more information go to http://nafmenw.org
URL:https://oregonmea.org/event/all-northwest-confeence-begins/
CATEGORIES:ALL Districts
END:VEVENT
BEGIN:VEVENT
DTSTART;TZID=America/Los_Angeles:20170115T083000
DTEND;TZID=America/Los_Angeles:20170115T083000
DTSTAMP:20260422T033426
CREATED:20240117T185537Z
LAST-MODIFIED:20240117T185537Z
UID:2728-1484469000-1484469000@oregonmea.org
SUMMARY:Winter board meeting
DESCRIPTION:Winter board meeting on Sunday of conference weekend.
URL:https://oregonmea.org/event/winter-board-meeting/
CATEGORIES:ALL Districts
END:VEVENT
BEGIN:VEVENT
DTSTART;TZID=America/Los_Angeles:20170113T080000
DTEND;TZID=America/Los_Angeles:20170115T080000
DTSTAMP:20260422T033426
CREATED:20240117T185540Z
LAST-MODIFIED:20240117T185540Z
UID:2729-1484294400-1484467200@oregonmea.org
SUMMARY:OMEA Conference
DESCRIPTION:”Walls Giving Way”Statewide inservice. Tlo registe\, go here:  https://www.oregonmusic.org/conference-registration-events.html
URL:https://oregonmea.org/event/omea-conference-3/
CATEGORIES:ALL Districts
END:VEVENT
BEGIN:VEVENT
DTSTART;VALUE=DATE:20170113
DTEND;VALUE=DATE:20170116
DTSTAMP:20260422T033426
CREATED:20240117T185540Z
LAST-MODIFIED:20240117T185540Z
UID:2730-1484265600-1484524799@oregonmea.org
SUMMARY:High School All-State begins
DESCRIPTION:All High school groups except jazz begin
URL:https://oregonmea.org/event/high-school-all-state-begins/
CATEGORIES:ALL Districts
END:VEVENT
BEGIN:VEVENT
DTSTART;VALUE=DATE:20170112
DTEND;VALUE=DATE:20170114
DTSTAMP:20260422T033426
CREATED:20240117T185540Z
LAST-MODIFIED:20240117T185540Z
UID:2731-1484179200-1484351999@oregonmea.org
SUMMARY:All-State Begins
DESCRIPTION:All-State jazz and middle school begin
URL:https://oregonmea.org/event/all-state-begins/
CATEGORIES:ALL Districts
END:VEVENT
BEGIN:VEVENT
DTSTART;VALUE=DATE:20161110
DTEND;VALUE=DATE:20161111
DTSTAMP:20260422T033426
CREATED:20240117T185543Z
LAST-MODIFIED:20240117T185543Z
UID:2736-1478736000-1478822399@oregonmea.org
SUMMARY:Student registrations must be paid
DESCRIPTION:All registered All-State participants must be paid for by this date.
URL:https://oregonmea.org/event/student-registrations-must-be-paid/
CATEGORIES:ALL Districts
END:VEVENT
BEGIN:VEVENT
DTSTART;VALUE=DATE:20161020
DTEND;VALUE=DATE:20161021
DTSTAMP:20260422T033426
CREATED:20240117T185545Z
LAST-MODIFIED:20240117T185545Z
UID:2740-1476921600-1477007999@oregonmea.org
SUMMARY:All-State Notifications
DESCRIPTION:All-State acceptance notification will go to teachers AND All-state registration will open
URL:https://oregonmea.org/event/all-state-notifications/
CATEGORIES:ALL Districts
END:VEVENT
BEGIN:VEVENT
DTSTART;VALUE=DATE:20161001
DTEND;VALUE=DATE:20161002
DTSTAMP:20260422T033426
CREATED:20240117T185546Z
LAST-MODIFIED:20240117T185546Z
UID:2742-1475280000-1475366399@oregonmea.org
SUMMARY:All-State Auditions & Recommendations Close
DESCRIPTION:All-State auditions and recommendations close and application fees must be paid.
URL:https://oregonmea.org/event/all-state-auditions-recommendations-close/
CATEGORIES:ALL Districts
END:VEVENT
BEGIN:VEVENT
DTSTART;TZID=America/Los_Angeles:20160521T083000
DTEND;TZID=America/Los_Angeles:20160521T083000
DTSTAMP:20260422T033426
CREATED:20240117T185557Z
LAST-MODIFIED:20240117T185557Z
UID:2750-1463819400-1463819400@oregonmea.org
SUMMARY:OMEA Board Meeting
DESCRIPTION:Board Meeting \nadmin@oregonmusic.org
URL:https://oregonmea.org/event/omea-board-meeting-3/
CATEGORIES:ALL Districts
END:VEVENT
BEGIN:VEVENT
DTSTART;TZID=America/Los_Angeles:20160430T080000
DTEND;TZID=America/Los_Angeles:20160430T080000
DTSTAMP:20260422T033426
CREATED:20240117T185557Z
LAST-MODIFIED:20240117T185557Z
UID:2752-1462003200-1462003200@oregonmea.org
SUMMARY:State Solo Contest
DESCRIPTION:State Solo Music ContestTom Muller- State Solo Contest Managertom_muller@ddouglas.k12.or.us
URL:https://oregonmea.org/event/state-solo-contest/
CATEGORIES:ALL Districts
END:VEVENT
BEGIN:VEVENT
DTSTART;TZID=America/Los_Angeles:20160429T080000
DTEND;TZID=America/Los_Angeles:20160429T080000
DTSTAMP:20260422T033426
CREATED:20240117T185558Z
LAST-MODIFIED:20240117T185558Z
UID:2753-1461916800-1461916800@oregonmea.org
SUMMARY:Small Ensemble Contest
DESCRIPTION:Small Ensemble ContestDan Judd\, Small Ensemble Contest Chairdan.judd@bend.k12.or.us
URL:https://oregonmea.org/event/small-ensemble-contest/
CATEGORIES:ALL Districts
END:VEVENT
BEGIN:VEVENT
DTSTART;TZID=America/Los_Angeles:20160117T083000
DTEND;TZID=America/Los_Angeles:20160117T083000
DTSTAMP:20260422T033426
CREATED:20240117T185617Z
LAST-MODIFIED:20240117T185617Z
UID:2776-1453019400-1453019400@oregonmea.org
SUMMARY:OMEA Board Meeting
DESCRIPTION:Board Meeting \nadmin@oregonmusic.org
URL:https://oregonmea.org/event/omea-board-meeting-4/
CATEGORIES:ALL Districts
END:VEVENT
BEGIN:VEVENT
DTSTART;TZID=America/Los_Angeles:20160115T080000
DTEND;TZID=America/Los_Angeles:20160117T080000
DTSTAMP:20260422T033426
CREATED:20240117T185617Z
LAST-MODIFIED:20240117T185617Z
UID:2777-1452844800-1453017600@oregonmea.org
SUMMARY:OMEA Annual Music Conference
DESCRIPTION:Teacher education and resources. \nadmin@oregonmusic.org
URL:https://oregonmea.org/event/omea-annual-music-conference/
CATEGORIES:ALL Districts
END:VEVENT
BEGIN:VEVENT
DTSTART;TZID=America/Los_Angeles:20151114T100000
DTEND;TZID=America/Los_Angeles:20151114T100000
DTSTAMP:20260422T033426
CREATED:20240117T185617Z
LAST-MODIFIED:20240117T185617Z
UID:2778-1447495200-1447495200@oregonmea.org
SUMMARY:OMEA Conference Team
DESCRIPTION:admin@oregonmusic.org
URL:https://oregonmea.org/event/omea-conference-team/
CATEGORIES:ALL Districts
END:VEVENT
BEGIN:VEVENT
DTSTART;TZID=America/Los_Angeles:20150912T083000
DTEND;TZID=America/Los_Angeles:20150912T083000
DTSTAMP:20260422T033426
CREATED:20240117T185619Z
LAST-MODIFIED:20240117T185619Z
UID:2783-1442046600-1442046600@oregonmea.org
SUMMARY:OMEA Board Meeting
DESCRIPTION:Fall Board Meeting \nadmin@oregonmusic.org
URL:https://oregonmea.org/event/omea-board-meeting-5/
CATEGORIES:ALL Districts
END:VEVENT
BEGIN:VEVENT
DTSTART;TZID=America/Los_Angeles:20150830T090000
DTEND;TZID=America/Los_Angeles:20150830T090000
DTSTAMP:20260422T033426
CREATED:20240117T185626Z
LAST-MODIFIED:20240117T185626Z
UID:2784-1440925200-1440925200@oregonmea.org
SUMMARY:test event
DESCRIPTION:dfgsdfbfdgmariemarie@thegarageinc.com
URL:https://oregonmea.org/event/test-event/
CATEGORIES:ALL Districts
END:VEVENT
BEGIN:VEVENT
DTSTART;TZID=America/Los_Angeles:20150123T193000
DTEND;TZID=America/Los_Angeles:20150124T193000
DTSTAMP:20260422T033426
CREATED:20240117T185717Z
LAST-MODIFIED:20240117T185717Z
UID:2845-1422041400-1422127800@oregonmea.org
SUMMARY:Oregon Jazz Festival
DESCRIPTION:The 2015 Oregon Jazz Festival will be held January 23-24 in Eugene\, OR.\nOur mission in creating the Oregon Jazz Festival is to give an opportunity for the diverse elements of our jazz community to come together in one event with the intent to support and celebrate jazz artistry\, life-long learning\, enjoyment and enrichment. Throughout this festival\, participating students have the opportunity to play and receive immediate critical feedback\, attend specialized clinics/workshops and hear professional jazz musicians speak and perform. The Oregon Jazz Festival is not a competition. Groups are encouraged to bring their ”works in progress” and to take away as much as possible from the experience of the day. Students are encouraged to watch\, listen and learn from each other\, as well as from the professional musicians they hear and work with throughout the day. \nAcclaimed jazz saxophonist Branford Marsalis will be this year’s special guest clinician\, and evening concerts will feature a Clinicians Dectet performing music commissioned for the festival. The festival will also feature performances by the University of Oregon Jazz Ensemble and the Lane Community College Jazz Ensemble. \nVisit our website today to quickly and easily register your groups and reserve your concert tickets! \nwww.oregonjazzfestival.com \nIf you have questions about the festival\, contact our Festival Coordinators: Steve Owen and Ron Bertucci. \nsowen@uoregon.edu\nbertuccir@lanecc.edu \nIf you experience problems with the website\, contact the website’s administrator\, Paul Krueger:kruegerp@lanecc.edu
URL:https://oregonmea.org/event/oregon-jazz-festival-4/
CATEGORIES:ALL Districts
END:VEVENT
BEGIN:VEVENT
DTSTART;TZID=America/Los_Angeles:20140607T083000
DTEND;TZID=America/Los_Angeles:20140607T083000
DTSTAMP:20260422T033426
CREATED:20240117T185721Z
LAST-MODIFIED:20240117T185721Z
UID:2851-1402129800-1402129800@oregonmea.org
SUMMARY:OMEA Board Meeting
DESCRIPTION:06//07/2014       Full Board- 8:30-3:30-TBA \nadmin@oregonmusic.org
URL:https://oregonmea.org/event/omea-board-meeting-6/
CATEGORIES:ALL Districts
END:VEVENT
BEGIN:VEVENT
DTSTART;TZID=America/Los_Angeles:20140119T083000
DTEND;TZID=America/Los_Angeles:20140119T083000
DTSTAMP:20260422T033426
CREATED:20240117T185755Z
LAST-MODIFIED:20240117T185755Z
UID:2897-1390120200-1390120200@oregonmea.org
SUMMARY:OMEA Board Meeting
DESCRIPTION:01/19/2014        Full Board- 8:30-12:30\, Eugene Hilton \nadmin@oregonmusic.org
URL:https://oregonmea.org/event/omea-board-meeting-7/
CATEGORIES:ALL Districts
END:VEVENT
BEGIN:VEVENT
DTSTART;VALUE=DATE:20140116
DTEND;VALUE=DATE:20140120
DTSTAMP:20260422T033426
CREATED:20240117T185755Z
LAST-MODIFIED:20240117T185755Z
UID:2898-1389830400-1390175999@oregonmea.org
SUMMARY:All-State and OMEA Conference
DESCRIPTION:All-State and OMEA Conference01/16/2014-01/19/2014       Eugene Hilton Conference Center\, Eugene \nadmin@oregonmusic.org
URL:https://oregonmea.org/event/all-state-and-omea-conference/
CATEGORIES:ALL Districts
END:VEVENT
END:VCALENDAR