BEGIN:VCALENDAR
VERSION:2.0
PRODID:-//Oregon Music Education Association - ECPv6.15.20//NONSGML v1.0//EN
CALSCALE:GREGORIAN
METHOD:PUBLISH
X-ORIGINAL-URL:https://oregonmea.org
X-WR-CALDESC:Events for Oregon Music Education Association
REFRESH-INTERVAL;VALUE=DURATION:PT1H
X-Robots-Tag:noindex
X-PUBLISHED-TTL:PT1H
BEGIN:VTIMEZONE
TZID:America/Los_Angeles
BEGIN:DAYLIGHT
TZOFFSETFROM:-0800
TZOFFSETTO:-0700
TZNAME:PDT
DTSTART:20230312T100000
END:DAYLIGHT
BEGIN:STANDARD
TZOFFSETFROM:-0700
TZOFFSETTO:-0800
TZNAME:PST
DTSTART:20231105T090000
END:STANDARD
BEGIN:DAYLIGHT
TZOFFSETFROM:-0800
TZOFFSETTO:-0700
TZNAME:PDT
DTSTART:20240310T100000
END:DAYLIGHT
BEGIN:STANDARD
TZOFFSETFROM:-0700
TZOFFSETTO:-0800
TZNAME:PST
DTSTART:20241103T090000
END:STANDARD
BEGIN:DAYLIGHT
TZOFFSETFROM:-0800
TZOFFSETTO:-0700
TZNAME:PDT
DTSTART:20250309T100000
END:DAYLIGHT
BEGIN:STANDARD
TZOFFSETFROM:-0700
TZOFFSETTO:-0800
TZNAME:PST
DTSTART:20251102T090000
END:STANDARD
END:VTIMEZONE
BEGIN:VEVENT
DTSTART;VALUE=DATE:20240112
DTEND;VALUE=DATE:20240115
DTSTAMP:20260425T064338
CREATED:20240117T184508Z
LAST-MODIFIED:20240117T184508Z
UID:2320-1705017600-1705276799@oregonmea.org
SUMMARY:OMEA Conference
DESCRIPTION:omeaconferencechair@gmail.com
URL:https://oregonmea.org/event/omea-conference/
CATEGORIES:ALL Districts
END:VEVENT
BEGIN:VEVENT
DTSTART;VALUE=DATE:20240119
DTEND;VALUE=DATE:20240121
DTSTAMP:20260425T064338
CREATED:20240117T184507Z
LAST-MODIFIED:20240117T184507Z
UID:2319-1705622400-1705795199@oregonmea.org
SUMMARY:Oregon Jazz Festival
DESCRIPTION:This year we are featuring the amazing saxophonist\, Camille Thurman.  Doug Doerfertdoerfertd@lanecc.edu
URL:https://oregonmea.org/event/oregon-jazz-festival/
CATEGORIES:ALL Districts
END:VEVENT
END:VCALENDAR