BEGIN:VCALENDAR
VERSION:2.0
PRODID:-//Oregon Music Education Association - ECPv6.15.20//NONSGML v1.0//EN
CALSCALE:GREGORIAN
METHOD:PUBLISH
X-ORIGINAL-URL:https://oregonmea.org
X-WR-CALDESC:Events for Oregon Music Education Association
REFRESH-INTERVAL;VALUE=DURATION:PT1H
X-Robots-Tag:noindex
X-PUBLISHED-TTL:PT1H
BEGIN:VTIMEZONE
TZID:America/Los_Angeles
BEGIN:DAYLIGHT
TZOFFSETFROM:-0800
TZOFFSETTO:-0700
TZNAME:PDT
DTSTART:20220313T100000
END:DAYLIGHT
BEGIN:STANDARD
TZOFFSETFROM:-0700
TZOFFSETTO:-0800
TZNAME:PST
DTSTART:20221106T090000
END:STANDARD
BEGIN:DAYLIGHT
TZOFFSETFROM:-0800
TZOFFSETTO:-0700
TZNAME:PDT
DTSTART:20230312T100000
END:DAYLIGHT
BEGIN:STANDARD
TZOFFSETFROM:-0700
TZOFFSETTO:-0800
TZNAME:PST
DTSTART:20231105T090000
END:STANDARD
BEGIN:DAYLIGHT
TZOFFSETFROM:-0800
TZOFFSETTO:-0700
TZNAME:PDT
DTSTART:20240310T100000
END:DAYLIGHT
BEGIN:STANDARD
TZOFFSETFROM:-0700
TZOFFSETTO:-0800
TZNAME:PST
DTSTART:20241103T090000
END:STANDARD
END:VTIMEZONE
BEGIN:VEVENT
DTSTART;VALUE=DATE:20231007
DTEND;VALUE=DATE:20231008
DTSTAMP:20260425T112855
CREATED:20240117T184536Z
LAST-MODIFIED:20240117T184536Z
UID:2335-1696636800-1696723199@oregonmea.org
SUMMARY:Liberty Marching Arts Challenge
DESCRIPTION:NWAPA marching band contest
URL:https://oregonmea.org/event/liberty-marching-arts-challenge/
CATEGORIES:ALL Districts
END:VEVENT
BEGIN:VEVENT
DTSTART;VALUE=DATE:20231007
DTEND;VALUE=DATE:20231008
DTSTAMP:20260425T112855
CREATED:20240117T184536Z
LAST-MODIFIED:20240117T184536Z
UID:2336-1696636800-1696723199@oregonmea.org
SUMMARY:Music in Motion
DESCRIPTION:NWAPA marching band contest
URL:https://oregonmea.org/event/music-in-motion/
CATEGORIES:ALL Districts
END:VEVENT
BEGIN:VEVENT
DTSTART;TZID=America/Los_Angeles:20231013T093000
DTEND;TZID=America/Los_Angeles:20231013T093000
DTSTAMP:20260425T112855
CREATED:20240117T184535Z
LAST-MODIFIED:20240117T184535Z
UID:2334-1697189400-1697189400@oregonmea.org
SUMMARY:UO Day of Improvisation
DESCRIPTION:The Day of Improvisation is a one-day workshop for high school students who are interested in improving as jazz improvisers. Participating students will:\nRehearse in small groups\nLearn the inâ€™s and outâ€™s of improvising and apply practice methods to selected repertoire\nEat pizza while being serenaded by UO jazz faculty and students\nAttend masterclass sessions taught by UO faculty\nPerform at an evening concertPaul Kruegerkruegerp@uoregon.edu
URL:https://oregonmea.org/event/uo-day-of-improvisation-2/
CATEGORIES:ALL Districts
END:VEVENT
BEGIN:VEVENT
DTSTART;VALUE=DATE:20231014
DTEND;VALUE=DATE:20231015
DTSTAMP:20260425T112855
CREATED:20240117T184521Z
LAST-MODIFIED:20240117T184521Z
UID:2331-1697241600-1697327999@oregonmea.org
SUMMARY:Century Showcase
DESCRIPTION:NWAPA marching band contest
URL:https://oregonmea.org/event/century-showcase/
CATEGORIES:ALL Districts
END:VEVENT
BEGIN:VEVENT
DTSTART;VALUE=DATE:20231014
DTEND;VALUE=DATE:20231015
DTSTAMP:20260425T112855
CREATED:20240117T184521Z
LAST-MODIFIED:20240117T184521Z
UID:2332-1697241600-1697327999@oregonmea.org
SUMMARY:Pacific Northwest Marching Band Championship
DESCRIPTION:NWAPA marching band contest
URL:https://oregonmea.org/event/pacific-northwest-marching-band-championship/
CATEGORIES:ALL Districts
END:VEVENT
BEGIN:VEVENT
DTSTART;VALUE=DATE:20231014
DTEND;VALUE=DATE:20231015
DTSTAMP:20260425T112855
CREATED:20240117T184522Z
LAST-MODIFIED:20240117T184522Z
UID:2333-1697241600-1697327999@oregonmea.org
SUMMARY:Pride of the Northwest
DESCRIPTION:NWAPA marching band contest.
URL:https://oregonmea.org/event/pride-of-the-northwest/
CATEGORIES:ALL Districts
END:VEVENT
BEGIN:VEVENT
DTSTART;VALUE=DATE:20231021
DTEND;VALUE=DATE:20231022
DTSTAMP:20260425T112855
CREATED:20240117T184520Z
LAST-MODIFIED:20240117T184520Z
UID:2329-1697846400-1697932799@oregonmea.org
SUMMARY:Sunset Classic
DESCRIPTION:NWAPA marching band contest
URL:https://oregonmea.org/event/sunset-classic/
CATEGORIES:ALL Districts
END:VEVENT
BEGIN:VEVENT
DTSTART;VALUE=DATE:20231028
DTEND;VALUE=DATE:20231029
DTSTAMP:20260425T112855
CREATED:20240117T184518Z
LAST-MODIFIED:20240117T184518Z
UID:2328-1698451200-1698537599@oregonmea.org
SUMMARY:Festival of Bands\, NWAPA Fall Championships
DESCRIPTION:NWAPA marching band contest
URL:https://oregonmea.org/event/festival-of-bands-nwapa-fall-championships/
CATEGORIES:ALL Districts
END:VEVENT
END:VCALENDAR