BEGIN:VCALENDAR
VERSION:2.0
PRODID:-//Oregon Music Education Association - ECPv6.15.20//NONSGML v1.0//EN
CALSCALE:GREGORIAN
METHOD:PUBLISH
X-ORIGINAL-URL:https://oregonmea.org
X-WR-CALDESC:Events for Oregon Music Education Association
REFRESH-INTERVAL;VALUE=DURATION:PT1H
X-Robots-Tag:noindex
X-PUBLISHED-TTL:PT1H
BEGIN:VTIMEZONE
TZID:America/Los_Angeles
BEGIN:DAYLIGHT
TZOFFSETFROM:-0800
TZOFFSETTO:-0700
TZNAME:PDT
DTSTART:20220313T100000
END:DAYLIGHT
BEGIN:STANDARD
TZOFFSETFROM:-0700
TZOFFSETTO:-0800
TZNAME:PST
DTSTART:20221106T090000
END:STANDARD
BEGIN:DAYLIGHT
TZOFFSETFROM:-0800
TZOFFSETTO:-0700
TZNAME:PDT
DTSTART:20230312T100000
END:DAYLIGHT
BEGIN:STANDARD
TZOFFSETFROM:-0700
TZOFFSETTO:-0800
TZNAME:PST
DTSTART:20231105T090000
END:STANDARD
BEGIN:DAYLIGHT
TZOFFSETFROM:-0800
TZOFFSETTO:-0700
TZNAME:PDT
DTSTART:20240310T100000
END:DAYLIGHT
BEGIN:STANDARD
TZOFFSETFROM:-0700
TZOFFSETTO:-0800
TZNAME:PST
DTSTART:20241103T090000
END:STANDARD
END:VTIMEZONE
BEGIN:VEVENT
DTSTART;TZID=America/Los_Angeles:20230909T090000
DTEND;TZID=America/Los_Angeles:20230909T090000
DTSTAMP:20260425T130407
CREATED:20240117T184542Z
LAST-MODIFIED:20240117T184542Z
UID:2341-1694250000-1694250000@oregonmea.org
SUMMARY:OBDA Adjudication Workshop
DESCRIPTION:OREGON BAND DIRECTORS ASSOCIATIONBAND AND ORCHESTRA ADJUDICATION WORKSHOP AND ADJUDICATION TRAINING\nDate: Saturday\, September 9th\, 2023\nTime: 9:00 am* – 4:00 pm\nLocation: Grants Pass High School (Main Building Library)\nAddress: 830 NE 9th St\, Grants Pass\, OR 97526 \n*While invited to attend the entire workshop\, candidates for recertification may choose to forego that content that is specific to forms and process and check in at 10:30 am. \nAdjudication Trainers: Mary Lou Boderman (Committee Chair)\, Ike Nail\, Karl Rashkes\, Dick Elliotâ€‹ \nOBDA ADJUDICATION COMMITTEE CHAIRS:\nMary Lou Boderman\nJennifer Brooks\nJennifer Bell \njennifer_brooks@ddsd40.org
URL:https://oregonmea.org/event/obda-adjudication-workshop/
CATEGORIES:ALL Districts
END:VEVENT
BEGIN:VEVENT
DTSTART;VALUE=DATE:20230923
DTEND;VALUE=DATE:20230924
DTSTAMP:20260425T130407
CREATED:20240117T184541Z
LAST-MODIFIED:20240117T184541Z
UID:2339-1695427200-1695513599@oregonmea.org
SUMMARY:Linfield Tournament of Bands
DESCRIPTION:NWAPA marching band contest
URL:https://oregonmea.org/event/linfield-tournament-of-bands/
CATEGORIES:ALL Districts
END:VEVENT
BEGIN:VEVENT
DTSTART;VALUE=DATE:20230930
DTEND;VALUE=DATE:20231001
DTSTAMP:20260425T130407
CREATED:20240117T184536Z
LAST-MODIFIED:20240117T184536Z
UID:2337-1696032000-1696118399@oregonmea.org
SUMMARY:Pacific Coast Invitational
DESCRIPTION:NWAPA marching band contest
URL:https://oregonmea.org/event/pacific-coast-invitational/
CATEGORIES:ALL Districts
END:VEVENT
END:VCALENDAR